BEGIN:VCALENDAR
VERSION:2.0
PRODID:-//RTKD Taekwon-do - ECPv6.15.20//NONSGML v1.0//EN
CALSCALE:GREGORIAN
METHOD:PUBLISH
X-WR-CALNAME:RTKD Taekwon-do
X-ORIGINAL-URL:https://rtkd.com.br
X-WR-CALDESC:Eventos para RTKD Taekwon-do
REFRESH-INTERVAL;VALUE=DURATION:PT1H
X-Robots-Tag:noindex
X-PUBLISHED-TTL:PT1H
BEGIN:VTIMEZONE
TZID:UTC
BEGIN:STANDARD
TZOFFSETFROM:+0000
TZOFFSETTO:+0000
TZNAME:UTC
DTSTART:20250101T000000
END:STANDARD
END:VTIMEZONE
BEGIN:VEVENT
DTSTART;VALUE=DATE:20260429
DTEND;VALUE=DATE:20260430
DTSTAMP:20260420T104432
CREATED:20260313T195701Z
LAST-MODIFIED:20260313T195701Z
UID:8272-1777420800-1777507199@rtkd.com.br
SUMMARY:Master Class GM Choi - Paraguay
DESCRIPTION:Classe Especial ministrada pelo Grão Mestre Choi Jung Hwa – Presidente da International Taekwon-do Federation. \nLocal: URUGUAI
URL:https://rtkd.com.br/evento/master-class-gm-choi-paraguay/
ATTACH;FMTTYPE=image/jpeg:https://rtkd.com.br/wp-content/uploads/2024/09/rtkd_site_img_1280x860_galeria_itf_012.jpg
END:VEVENT
BEGIN:VEVENT
DTSTART;TZID=UTC:20260516T080000
DTEND;TZID=UTC:20260516T170000
DTSTAMP:20260420T104432
CREATED:20260313T201122Z
LAST-MODIFIED:20260313T201232Z
UID:8276-1778918400-1778950800@rtkd.com.br
SUMMARY:Campeonato Estadual RJ - Macaé
DESCRIPTION:Campeonato Estadual de Taekwon-do ITF BRASIL – Macaé\, RJ
URL:https://rtkd.com.br/evento/campeonato-estadual-rj-macae/
LOCATION:Macaé – RJ\, Ginásio Poliesportivo Municipal Engenheiro Mauricio Soares Bittencourt\, R. Granada – Sol e Mar\, Macaé\, Rio de Janeiro\, 27940-480\, Brazil
CATEGORIES:Competição
ATTACH;FMTTYPE=image/jpeg:https://rtkd.com.br/wp-content/uploads/2025/04/rtkd_site_img_1280x860_galeria_rtkd_060.jpg
END:VEVENT
BEGIN:VEVENT
DTSTART;VALUE=DATE:20260531
DTEND;VALUE=DATE:20260601
DTSTAMP:20260420T104432
CREATED:20260313T201717Z
LAST-MODIFIED:20260313T202612Z
UID:8279-1780185600-1780271999@rtkd.com.br
SUMMARY:Copa 3 Fronteiras
DESCRIPTION:Campeonato Internacional ITF realizado na tríplice fronteira – Foz do Iguaçu.
URL:https://rtkd.com.br/evento/copa-3-fronteiras/
CATEGORIES:Competição
ATTACH;FMTTYPE=image/jpeg:https://rtkd.com.br/wp-content/uploads/2025/03/rtkd_site_img_1280x860_galeria_itf_040.jpg
END:VEVENT
BEGIN:VEVENT
DTSTART;TZID=UTC:20260606T080000
DTEND;TZID=UTC:20260606T170000
DTSTAMP:20260420T104432
CREATED:20260313T203819Z
LAST-MODIFIED:20260313T204819Z
UID:8281-1780732800-1780765200@rtkd.com.br
SUMMARY:Exame de Graduação Dan - ITF BRASIL
DESCRIPTION:Exame de Graduação para Faixa Preta (Dan) realizado na Sede da ITF BRASIL e ministrado pelo Mestre Edimir Kawakubo – VIII dan
URL:https://rtkd.com.br/evento/exame-de-graduacao-dan-itf-brasil/
CATEGORIES:Graduação
ATTACH;FMTTYPE=image/jpeg:https://rtkd.com.br/wp-content/uploads/2025/05/rtkd_site_img_1280x860_galeria_graduacao_019.jpg
END:VEVENT
BEGIN:VEVENT
DTSTART;VALUE=DATE:20260607
DTEND;VALUE=DATE:20260608
DTSTAMP:20260420T104432
CREATED:20260313T205014Z
LAST-MODIFIED:20260313T205134Z
UID:8283-1780790400-1780876799@rtkd.com.br
SUMMARY:Seminário Anual ITF BRASIL - RJ
DESCRIPTION:Seminário técnico realizado na Sede da ITF BRASIL e ministrado pelo Mestre Edimir Kawakubo – VIII Dan
URL:https://rtkd.com.br/evento/seminario-anual-itf-brasil-rj/
LOCATION:ITF BRASIL\, Rua Soares da Costa\, 144\, Rio de Janeiro\, Rio de Janeiro\, 20520100\, Brazil
CATEGORIES:Seminário
ATTACH;FMTTYPE=image/jpeg:https://rtkd.com.br/wp-content/uploads/2025/05/rtkd_site_img_1280x860_galeria_graduacao_011.jpg
END:VEVENT
BEGIN:VEVENT
DTSTART;TZID=UTC:20260704T080000
DTEND;TZID=UTC:20260704T170000
DTSTAMP:20260420T104432
CREATED:20260313T205408Z
LAST-MODIFIED:20260313T205408Z
UID:8285-1783152000-1783184400@rtkd.com.br
SUMMARY:Workshop ITF BRASIL de Arbitragem - 2026.02
DESCRIPTION:Seminário técnico realizado na Sede da ITF BRASIL e ministrado pelo Mestre Edimir Kawakubo – VIII Dan
URL:https://rtkd.com.br/evento/workshop-itf-brasil-de-arbitragem-2026-02/
LOCATION:ITF BRASIL\, Rua Soares da Costa\, 144\, Rio de Janeiro\, Rio de Janeiro\, 20520100\, Brazil
CATEGORIES:Seminário
ATTACH;FMTTYPE=image/jpeg:https://rtkd.com.br/wp-content/uploads/2025/05/rtkd_site_img_1280x860_galeria_graduacao_005.jpg
END:VEVENT
BEGIN:VEVENT
DTSTART;TZID=UTC:20260725T110000
DTEND;TZID=UTC:20260725T140000
DTSTAMP:20260420T104432
CREATED:20260304T013816Z
LAST-MODIFIED:20260313T195851Z
UID:8134-1784977200-1784988000@rtkd.com.br
SUMMARY:Exame de Graduação GUP - 2026.02
DESCRIPTION:
URL:https://rtkd.com.br/evento/exame-de-graduacao-2026-02/
LOCATION:RTKD Laranjeiras 01\, Rua Cardoso Júnior 16\, Rio de Janeiro\, Rio de Janeiro\, 22245-000\, Brazil
CATEGORIES:Graduação
ATTACH;FMTTYPE=image/jpeg:https://rtkd.com.br/wp-content/uploads/2025/05/rtkd_site_img_1280x860_galeria_graduacao_018.jpg
END:VEVENT
BEGIN:VEVENT
DTSTART;VALUE=DATE:20260731
DTEND;VALUE=DATE:20260801
DTSTAMP:20260420T104432
CREATED:20260313T205638Z
LAST-MODIFIED:20260313T205638Z
UID:8287-1785456000-1785542399@rtkd.com.br
SUMMARY:Jogos Mundiais ITF - Uruguai
DESCRIPTION:Campeonato Internacional ITF
URL:https://rtkd.com.br/evento/jogos-mundiais-itf-uruguai/
ATTACH;FMTTYPE=image/jpeg:https://rtkd.com.br/wp-content/uploads/2024/08/rtkd_site_img_1280x860_galeria_itf_002.jpg
END:VEVENT
BEGIN:VEVENT
DTSTART;TZID=UTC:20260919T080000
DTEND;TZID=UTC:20260919T170000
DTSTAMP:20260420T104432
CREATED:20260313T212514Z
LAST-MODIFIED:20260313T212514Z
UID:8293-1789804800-1789837200@rtkd.com.br
SUMMARY:Congresso Nacional ITF BRASIL - SC
DESCRIPTION:Seminário Nacional de Taekwon-do ITF BRASIL – Blumenau\, SC
URL:https://rtkd.com.br/evento/congresso-nacional-itf-brasil-sc-2/
CATEGORIES:Seminário
ATTACH;FMTTYPE=image/jpeg:https://rtkd.com.br/wp-content/uploads/2025/04/rtkd_site_img_1280x860_galeria_rtkd_058.jpg
END:VEVENT
BEGIN:VEVENT
DTSTART;TZID=UTC:20260920T080000
DTEND;TZID=UTC:20260920T170000
DTSTAMP:20260420T104432
CREATED:20260313T210159Z
LAST-MODIFIED:20260313T212333Z
UID:8289-1789891200-1789923600@rtkd.com.br
SUMMARY:XVIII Campeonato Nacional - SC
DESCRIPTION:Campeonato Nacional de Taekwon-do ITF BRASIL – Blumenau\, SC
URL:https://rtkd.com.br/evento/congresso-nacional-itf-brasil-sc/
CATEGORIES:Competição
ATTACH;FMTTYPE=image/jpeg:https://rtkd.com.br/wp-content/uploads/2025/01/rtkd_site_img_1280x860_galeria_rtkd_030.jpg
END:VEVENT
BEGIN:VEVENT
DTSTART;TZID=UTC:20261120T080000
DTEND;TZID=UTC:20261120T170000
DTSTAMP:20260420T104432
CREATED:20260313T212944Z
LAST-MODIFIED:20260313T212944Z
UID:8295-1795161600-1795194000@rtkd.com.br
SUMMARY:Campeonato Sulamericano ITF 2026
DESCRIPTION:Campeonato Sulamericano de Taekwon-do ITF – 2026
URL:https://rtkd.com.br/evento/campeonato-sulamericano-itf-2026/
CATEGORIES:Competição
ATTACH;FMTTYPE=image/jpeg:https://rtkd.com.br/wp-content/uploads/2025/04/itfbr_site_img_1280x850_pag_tkd_corpo_03.jpg
END:VEVENT
BEGIN:VEVENT
DTSTART;TZID=UTC:20261128T110000
DTEND;TZID=UTC:20261128T140000
DTSTAMP:20260420T104432
CREATED:20260306T072535Z
LAST-MODIFIED:20260313T195834Z
UID:8192-1795863600-1795874400@rtkd.com.br
SUMMARY:Exame de Graduação GUP - 2026.03
DESCRIPTION:
URL:https://rtkd.com.br/evento/exame-de-graduacao-2026-03/
LOCATION:RTKD Laranjeiras 01\, Rua Cardoso Júnior 16\, Rio de Janeiro\, Rio de Janeiro\, 22245-000\, Brazil
CATEGORIES:Graduação
ATTACH;FMTTYPE=image/jpeg:https://rtkd.com.br/wp-content/uploads/2024/08/rtkd_site_img_1280x860_equipe-valores_01.jpg
END:VEVENT
BEGIN:VEVENT
DTSTART;TZID=UTC:20261205T080000
DTEND;TZID=UTC:20261205T170000
DTSTAMP:20260420T104432
CREATED:20260313T213316Z
LAST-MODIFIED:20260313T213316Z
UID:8297-1796457600-1796490000@rtkd.com.br
SUMMARY:Exame de Graduação Dan – ITF BRASIL
DESCRIPTION:Exame de Graduação para Faixa Preta (Dan) realizado na Sede da ITF BRASIL e ministrado pelo Mestre Edimir Kawakubo – VIII Dan
URL:https://rtkd.com.br/evento/exame-de-graduacao-dan-itf-brasil-2/
CATEGORIES:Graduação
ATTACH;FMTTYPE=image/jpeg:https://rtkd.com.br/wp-content/uploads/2024/08/rtkd_site_img_1280x860_galeria_rtkd_003.jpg
END:VEVENT
END:VCALENDAR