BEGIN:VCALENDAR
VERSION:2.0
PRODID:-//RTKD Taekwon-do - ECPv6.15.20//NONSGML v1.0//EN
CALSCALE:GREGORIAN
METHOD:PUBLISH
X-ORIGINAL-URL:https://rtkd.com.br
X-WR-CALDESC:Eventos para RTKD Taekwon-do
REFRESH-INTERVAL;VALUE=DURATION:PT1H
X-Robots-Tag:noindex
X-PUBLISHED-TTL:PT1H
BEGIN:VTIMEZONE
TZID:UTC
BEGIN:STANDARD
TZOFFSETFROM:+0000
TZOFFSETTO:+0000
TZNAME:UTC
DTSTART:20250101T000000
END:STANDARD
END:VTIMEZONE
BEGIN:VEVENT
DTSTART;VALUE=DATE:20260531
DTEND;VALUE=DATE:20260601
DTSTAMP:20260420T213216
CREATED:20260313T201717Z
LAST-MODIFIED:20260313T202612Z
UID:8279-1780185600-1780271999@rtkd.com.br
SUMMARY:Copa 3 Fronteiras
DESCRIPTION:Campeonato Internacional ITF realizado na tríplice fronteira – Foz do Iguaçu.
URL:https://rtkd.com.br/evento/copa-3-fronteiras/
CATEGORIES:Competição
ATTACH;FMTTYPE=image/jpeg:https://rtkd.com.br/wp-content/uploads/2025/03/rtkd_site_img_1280x860_galeria_itf_040.jpg
END:VEVENT
END:VCALENDAR